BEGIN:VCALENDAR
VERSION:2.0
PRODID:-//tuneis.org.br - ECPv5.1.0//NONSGML v1.0//EN
CALSCALE:GREGORIAN
METHOD:PUBLISH
X-WR-CALNAME:tuneis.org.br
X-ORIGINAL-URL:https://www.tuneis.org.br
X-WR-CALDESC:Eventos para tuneis.org.br
BEGIN:VTIMEZONE
TZID:America/Sao_Paulo
BEGIN:STANDARD
TZOFFSETFROM:-0300
TZOFFSETTO:-0300
TZNAME:-03
DTSTART:20220101T000000
END:STANDARD
END:VTIMEZONE
BEGIN:VEVENT
DTSTART;TZID=America/Sao_Paulo:20221013T103000
DTEND;TZID=America/Sao_Paulo:20221013T113000
DTSTAMP:20260422T091718
CREATED:20221003T121308Z
LAST-MODIFIED:20221003T121308Z
UID:5311-1665657000-1665660600@www.tuneis.org.br
SUMMARY:Metrô de Madrid e sua utilização do Método Belga
DESCRIPTION: \n  \nO Comitê Brasileiro de Túneis – CBT da Associação Brasileira de Mecânica dos Solos e Engenharia Geotécnica – ABMS \, convida a comunidade técnica para o Webinário “Metrô de Madrid e sua utilização do Método Belga” com Engº Cláudio Dias \, representando a empresa AYESA. \nO evento será no dia 13/10/2022\, às 10h30\, horário de Brasília. A transmissão será feita pelo canal do CBT no YouTube. \nLink: https://www.youtube.com/watch?v=L8dD5IpGqpI \n
URL:https://www.tuneis.org.br/evento/metro-de-madrid-e-sua-utilizacao-do-metodo-belga/
CATEGORIES:Webinário
END:VEVENT
END:VCALENDAR