BEGIN:VCALENDAR
VERSION:2.0
PRODID:-//tuneis.org.br - ECPv5.1.0//NONSGML v1.0//EN
CALSCALE:GREGORIAN
METHOD:PUBLISH
X-WR-CALNAME:tuneis.org.br
X-ORIGINAL-URL:https://www.tuneis.org.br
X-WR-CALDESC:Eventos para tuneis.org.br
BEGIN:VTIMEZONE
TZID:America/Sao_Paulo
BEGIN:STANDARD
TZOFFSETFROM:-0300
TZOFFSETTO:-0300
TZNAME:-03
DTSTART:20210101T000000
END:STANDARD
END:VTIMEZONE
BEGIN:VEVENT
DTSTART;TZID=America/Sao_Paulo:20210715T190000
DTEND;TZID=America/Sao_Paulo:20210715T203000
DTSTAMP:20260423T123545
CREATED:20210624T194711Z
LAST-MODIFIED:20210712T154411Z
UID:4384-1626375600-1626381000@www.tuneis.org.br
SUMMARY:Webinário CBT - "Evolução dos produtos e serviços na técnica de abertura de túneis em rocha com o uso de explosivos"
DESCRIPTION:O Webinário CBT do dia 15/7 receberá José Silvio Corsini para falar sobre “Evolucão dos produtos e serviços na técnica de abertura de túneis em rocha com o uso de explosivos”.  O palestrante representa a Enaex Brasil\, empresa parceira do Comitê. O encontro virtual será transmitido ao vivo pelo canal do CBT no Youtube\, às 19h. \nA Enaex Brasil é líder em serviços abrangentes de fragmentação de rochas. \nAssista ao Webinário CBT pelo link:  https://www.youtube.com/watch?v=eFQx54GO-fE \nAcompanhe e assista pelo canal: Comitê Brasileiro de Túneis CBT \n  \n
URL:https://www.tuneis.org.br/evento/webinario-cbt-evolucao-dos-produtos-e-servicos-na-tecnica-de-abertura-de-tuneis-em-rocha-com-o-uso-de-explosivos-2/
CATEGORIES:Webinário
ATTACH;FMTTYPE=image/jpeg:https://www.tuneis.org.br/wp-content/uploads/2021/06/webinar-01.jpg
END:VEVENT
END:VCALENDAR