BEGIN:VCALENDAR
VERSION:2.0
PRODID:-//tuneis.org.br - ECPv5.1.0//NONSGML v1.0//EN
CALSCALE:GREGORIAN
METHOD:PUBLISH
X-WR-CALNAME:tuneis.org.br
X-ORIGINAL-URL:https://www.tuneis.org.br
X-WR-CALDESC:Eventos para tuneis.org.br
BEGIN:VTIMEZONE
TZID:America/Sao_Paulo
BEGIN:STANDARD
TZOFFSETFROM:-0300
TZOFFSETTO:-0300
TZNAME:-03
DTSTART:20210101T000000
END:STANDARD
END:VTIMEZONE
BEGIN:VEVENT
DTSTART;TZID=America/Sao_Paulo:20210525T120000
DTEND;TZID=America/Sao_Paulo:20210525T140000
DTSTAMP:20260423T162123
CREATED:20210511T213330Z
LAST-MODIFIED:20210511T213349Z
UID:4108-1621944000-1621951200@www.tuneis.org.br
SUMMARY:Panel Expertos: Tecnologías de Seguridad para Túneles en América Latina
DESCRIPTION:O Comitê Brasileiro de Túneis foi convidado pela empresa Honeywell para participar do evento online “Panel Expertos: Tecnologías de Seguridad para Túneles en América Latina”\, que acontece no dia 25/5\, às 12h (GMT-3). O presidente Eloi Palma Filho irá representar o CBT. O evento também contará com a participação de Armando Olavarría\, vice-presidente do Comité de Túneles y Espacios Subterráneos de Chile (CTES)\, e de representantes das empresas Mirabit e Honeywell. \nInscreva-se em: http://bit.ly/PanelExpertosTúnelesLATAM \nSaiba mais aqui.  \n
URL:https://www.tuneis.org.br/evento/panel-expertos-tecnologias-de-seguridad-para-tuneles-en-america-latina/
CATEGORIES:Webinário
ATTACH;FMTTYPE=image/jpeg:https://www.tuneis.org.br/wp-content/uploads/2021/05/notebook-Igor-Kutyaev-menor.jpg
END:VEVENT
END:VCALENDAR