BEGIN:VCALENDAR
VERSION:2.0
PRODID:-//tuneis.org.br - ECPv5.1.0//NONSGML v1.0//EN
CALSCALE:GREGORIAN
METHOD:PUBLISH
X-WR-CALNAME:tuneis.org.br
X-ORIGINAL-URL:https://www.tuneis.org.br
X-WR-CALDESC:Eventos para tuneis.org.br
BEGIN:VTIMEZONE
TZID:America/Sao_Paulo
BEGIN:STANDARD
TZOFFSETFROM:-0300
TZOFFSETTO:-0300
TZNAME:-03
DTSTART:20210101T000000
END:STANDARD
END:VTIMEZONE
BEGIN:VEVENT
DTSTART;TZID=America/Sao_Paulo:20210506T170000
DTEND;TZID=America/Sao_Paulo:20210506T183000
DTSTAMP:20260423T162641
CREATED:20210223T162754Z
LAST-MODIFIED:20210430T202314Z
UID:3775-1620320400-1620325800@www.tuneis.org.br
SUMMARY:Webinário CBT - “Emerald GeoModelling"
DESCRIPTION:O engenheiro André Araujo Silva é o convidado para o Webinário CBT do dia 6/5\, às 17h. O tema do encontro será sobre “Emerald GeoModelling”. O encontro será transmitido ao vivo pelo canal do CBT no YouTube. Não perca! \nPara assistir\, acesse: https://www.youtube.com/watch?v=GbQfdhgVpVE \n(Imagem: nortonrsx/iStock.com) \n
URL:https://www.tuneis.org.br/evento/webinario-cbt-6/
CATEGORIES:Webinário
ATTACH;FMTTYPE=image/jpeg:https://www.tuneis.org.br/wp-content/uploads/2021/02/Design-sem-nome-48.jpg
END:VEVENT
END:VCALENDAR