BEGIN:VCALENDAR
VERSION:2.0
PRODID:-//tuneis.org.br - ECPv5.1.0//NONSGML v1.0//EN
CALSCALE:GREGORIAN
METHOD:PUBLISH
X-WR-CALNAME:tuneis.org.br
X-ORIGINAL-URL:https://www.tuneis.org.br
X-WR-CALDESC:Eventos para tuneis.org.br
BEGIN:VTIMEZONE
TZID:America/Sao_Paulo
BEGIN:STANDARD
TZOFFSETFROM:-0300
TZOFFSETTO:-0300
TZNAME:-03
DTSTART:20200101T000000
END:STANDARD
END:VTIMEZONE
BEGIN:VEVENT
DTSTART;TZID=America/Sao_Paulo:20201209T150000
DTEND;TZID=America/Sao_Paulo:20201209T170000
DTSTAMP:20260424T020313
CREATED:20201209T203215Z
LAST-MODIFIED:20201209T203215Z
UID:3233-1607526000-1607533200@www.tuneis.org.br
SUMMARY:Lançamento comercial do 5º CBT será feito nesta quarta-feira\, dia 9/12\, às 15h
DESCRIPTION:O Comitê Brasileiro de Túneis e a ABMS apresentarão\, nesta quarta-feira (9/12)\, às 15h\, o lançamento comercial do 5º CBT. A reunião irá mostrar em primeira mão a planta oficial do evento\, que acontecerá entre os dias 1 e 4 de dezembro de 2021\, e suas oportunidades comerciais. \nO encontro do dia 9/12 também receberá Renan Essucy Gomes Brandão\, Superintendente de Concessão da Infraestrutura (SUCON) da Agência Nacional de Transportes Terrestres (ANTT). \nPara participar\, basta confirmar a sua presença pelo e-mail secretaria@qeeventos.com.br e realizar o seu credenciamento através do link: https://qeeventos.arvischain.com/. \n  \n(Imagem: Drazen Zigic/iStock.com) \n
URL:https://www.tuneis.org.br/evento/lancamento-comercial-do-5o-cbt-sera-feito-nesta-quarta-feira-dia-9-12-as-15h/
CATEGORIES:Webinário
ATTACH;FMTTYPE=image/jpeg:https://www.tuneis.org.br/wp-content/uploads/2020/12/Design-sem-nome-3.jpg
END:VEVENT
END:VCALENDAR