BEGIN:VCALENDAR
VERSION:2.0
PRODID:-//tuneis.org.br - ECPv5.1.0//NONSGML v1.0//EN
CALSCALE:GREGORIAN
METHOD:PUBLISH
X-WR-CALNAME:tuneis.org.br
X-ORIGINAL-URL:https://www.tuneis.org.br
X-WR-CALDESC:Eventos para tuneis.org.br
BEGIN:VTIMEZONE
TZID:America/Sao_Paulo
BEGIN:STANDARD
TZOFFSETFROM:-0300
TZOFFSETTO:-0300
TZNAME:-03
DTSTART:20200101T000000
END:STANDARD
END:VTIMEZONE
BEGIN:VEVENT
DTSTART;TZID=America/Sao_Paulo:20201203T073000
DTEND;TZID=America/Sao_Paulo:20201204T220000
DTSTAMP:20260424T015946
CREATED:20201202T201552Z
LAST-MODIFIED:20201202T201634Z
UID:3202-1606980600-1607119200@www.tuneis.org.br
SUMMARY:ITA Tunneling Awards 2020
DESCRIPTION:A 6ª edição do ITA Tunneling Awards acontece entre os dias 3 e 4 de dezembro de 2020. Realizada em formato virtual\, a Conferência apresenta a premiação que reconhece os projetos de sucesso e inovadores da área de túneis\, e espaço subterrâneo. O evento será oportunidade para que os participantes assistam às apresentações dos finalistas\, o anúncio dos vencedores e navegar pelo salão de exposições. \nPor meio de oito categorias\, o concurso internacional premia as inovações e os projetos de destaque em túneis e uso de espaços subterrâneos. Este ano\, foram selecionados 28 finalistas\, de 15 países\, por 16 membros do painel de jurados. Entre o time de jurados\, estão presentes dois o ex-presidente da entidade e do CBT\, Tarcísio B. Celestino\, e o ex-presidente do CBT Werner Bilfinger. \nClique aqui para se inscrever: https://ita-aites.6connex.eu/event/ITAVirtualEvents/register \n
URL:https://www.tuneis.org.br/evento/ita-tunneling-awards-2020/
CATEGORIES:Webinário
ATTACH;FMTTYPE=image/png:https://www.tuneis.org.br/wp-content/uploads/2020/06/ITA-awards4.png
END:VEVENT
BEGIN:VEVENT
DTSTART;TZID=America/Sao_Paulo:20201204T084000
DTEND;TZID=America/Sao_Paulo:20201204T170000
DTSTAMP:20260424T015946
CREATED:20201126T161757Z
LAST-MODIFIED:20201201T133859Z
UID:3143-1607071200-1607101200@www.tuneis.org.br
SUMMARY:Tunnel Day 2020 - Os 30 anos de CBT e dos túneis e as expectativas quanto ao futuro
DESCRIPTION:O ano de 2020 marca o aniversário de 30 anos do Comitê Brasileiro de Túneis. Para celebrar\, a diretoria do CBT tem o prazer de convidar toda a comunidade tuneleira para o Tunnel Day 2020. O evento\, que acontece anualmente no dia 4 de dezembro – Dia de Santa Bárbara\, padroeira dos tuneleiros e dos mineiros – vai reunir especialistas para debater temas relevantes da engenharia de túneis durante todo o dia. \nNeste ano\, o encontro será virtual devido à pandemia de Covid-19. A diretoria do CBT está produzindo todos os preparativos diretamente do Instituto de Engenharia de São Paulo\, de onde será transmitido o evento. \n“Os 30 anos de CBT e dos túneis\, e as expectativas quanto ao futuro” será o tema da edição. Haverá palestras com diversos engenheiros durante o dia todo\, das 8h40 às 17h. O Tunnel Day será transmitido ao vivo pelo canal do CBT\, no YouTube\, Comitê Brasileiro de Túneis CBT – YouTube. \n(Imagem: svedoliver/iStoock.com) \n
URL:https://www.tuneis.org.br/evento/tunnel-day-2020-2/
LOCATION:Youtube
CATEGORIES:Webinário
ATTACH;FMTTYPE=image/png:https://www.tuneis.org.br/wp-content/uploads/2020/11/webinar-CBTnovo-site-15.png
END:VEVENT
END:VCALENDAR