BEGIN:VCALENDAR
VERSION:2.0
PRODID:-//tuneis.org.br - ECPv5.1.0//NONSGML v1.0//EN
CALSCALE:GREGORIAN
METHOD:PUBLISH
X-WR-CALNAME:tuneis.org.br
X-ORIGINAL-URL:https://www.tuneis.org.br
X-WR-CALDESC:Eventos para tuneis.org.br
BEGIN:VTIMEZONE
TZID:America/Sao_Paulo
BEGIN:STANDARD
TZOFFSETFROM:-0300
TZOFFSETTO:-0300
TZNAME:-03
DTSTART:20200101T000000
END:STANDARD
END:VTIMEZONE
BEGIN:VEVENT
DTSTART;TZID=America/Sao_Paulo:20201026T080000
DTEND;TZID=America/Sao_Paulo:20201031T170000
DTSTAMP:20260424T054117
CREATED:20201020T175725Z
LAST-MODIFIED:20201020T175726Z
UID:2921-1603699200-1604163600@www.tuneis.org.br
SUMMARY:GeoAmericas 2020
DESCRIPTION:Com o apoio do CBT\, O GeoAmericas 2020 vem com muitas novidades. Devido a pandemia do Covid-19\, o 4º Congresso Panamericano de Geossintético será realizado 100% online\, entre os dias 26 e 31 de outubro. O evento irá abordar os geossintéticos como forma de contribuição para a sociedade moderna diante de seus desafios e de suas demandas. O GeoAmericas receberá mais de 50 sessões técnicas\, entre elas apresentações de trabalhos\, treinamentos e discussões. \n(Imagem: Igor Kutyaev/iStock.com) \n
URL:https://www.tuneis.org.br/evento/geoamericas-2020/
LOCATION:Youtube
CATEGORIES:Webinário
ATTACH;FMTTYPE=image/jpeg:https://www.tuneis.org.br/wp-content/uploads/2020/10/webinar-CBTnovo-site-2.jpg
END:VEVENT
BEGIN:VEVENT
DTSTART;TZID=America/Sao_Paulo:20201029T193000
DTEND;TZID=America/Sao_Paulo:20201029T210000
DTSTAMP:20260424T054117
CREATED:20201022T163608Z
LAST-MODIFIED:20201022T163609Z
UID:2947-1603999800-1604005200@www.tuneis.org.br
SUMMARY:Webinário CBT - “Tratamentos Geotécnicos na Escavação de Túneis em Solos”
DESCRIPTION:Pela segunda vez\, o engenheiro Cassio Abeid Moura será o palestrante do Webinário CBT que acontece no dia 29/10\, às 19h. Moura é diretor do CBT e da empresa Concreto Projetado do Brasil (CPB). Ele representa a empresa\, que é parceira do CBT\, e falará sobre “Tratamentos Geotécnicos na Escavação de Túneis em Solos”. Cassio Moura é engenheiro civil formado pela Universidade Mackenzie. Ele trabalha há 20 anos no desenvolvimento de equipamentos e aplicação do concreto projetado e ancoragens em diversos usos\, com foco em contenções de encostas e túneis. \n(Imagem: batuhan toker/iStock.com) \n
URL:https://www.tuneis.org.br/evento/webinario-cbt-tratamentos-geotecnicos-na-escavacao-de-tuneis-em-solos/
CATEGORIES:Webinário
ATTACH;FMTTYPE=image/png:https://www.tuneis.org.br/wp-content/uploads/2020/10/cbt-1.png
END:VEVENT
END:VCALENDAR