BEGIN:VCALENDAR
VERSION:2.0
PRODID:-//tuneis.org.br - ECPv5.1.0//NONSGML v1.0//EN
CALSCALE:GREGORIAN
METHOD:PUBLISH
X-WR-CALNAME:tuneis.org.br
X-ORIGINAL-URL:https://www.tuneis.org.br
X-WR-CALDESC:Eventos para tuneis.org.br
BEGIN:VTIMEZONE
TZID:America/Sao_Paulo
BEGIN:STANDARD
TZOFFSETFROM:-0300
TZOFFSETTO:-0300
TZNAME:-03
DTSTART:20200101T000000
END:STANDARD
END:VTIMEZONE
BEGIN:VEVENT
DTSTART;TZID=America/Sao_Paulo:20200924T190000
DTEND;TZID=America/Sao_Paulo:20200924T203000
DTSTAMP:20260424T091336
CREATED:20200918T161616Z
LAST-MODIFIED:20200918T161617Z
UID:2767-1600974000-1600979400@www.tuneis.org.br
SUMMARY:CBT lançará publicação técnica em meio digital sobre prática envolvendo concreto projetado reforçado com fibras
DESCRIPTION:O Comitê Brasileiro de Túneis concluiu um projeto que visa divulgar os estudos da Escola Politécnica da USP sobre as melhores práticas quanto ao uso do concreto projetado reforçado com fibras nas para construções subterrâneas. Esse trabalho resultou na publicação do CBT intitulada “Prática recomendada – Concreto projetado reforçado com fibras”\, que será apresentada a toda comunidade tuneleira no próximo dia 24/9\, às 19h. \nClique aqui e acesse o link do Youtube para o painel de lançamento: https://www.youtube.com/watch?v=rIvOuaFueTo&feature=emb_title \n(Imagem: dusanpetkovic/iStock.com) \n
URL:https://www.tuneis.org.br/evento/cbt-lancara-publicacao-tecnica-em-meio-digital-sobre-pratica-envolvendo-concreto-projetado-reforcado-com-fibras/
LOCATION:Youtube
CATEGORIES:Webinário
ATTACH;FMTTYPE=image/jpeg:https://www.tuneis.org.br/wp-content/uploads/2020/09/webinar-CBTnovo-site-2-2.jpg
END:VEVENT
END:VCALENDAR