BEGIN:VCALENDAR
VERSION:2.0
PRODID:-//tuneis.org.br - ECPv5.1.0//NONSGML v1.0//EN
CALSCALE:GREGORIAN
METHOD:PUBLISH
X-WR-CALNAME:tuneis.org.br
X-ORIGINAL-URL:https://www.tuneis.org.br
X-WR-CALDESC:Eventos para tuneis.org.br
BEGIN:VTIMEZONE
TZID:America/Sao_Paulo
BEGIN:STANDARD
TZOFFSETFROM:-0300
TZOFFSETTO:-0300
TZNAME:-03
DTSTART:20200101T000000
END:STANDARD
END:VTIMEZONE
BEGIN:VEVENT
DTSTART;TZID=America/Sao_Paulo:20200910T190000
DTEND;TZID=America/Sao_Paulo:20200910T203000
DTSTAMP:20260424T072525
CREATED:20200825T190020Z
LAST-MODIFIED:20200825T190020Z
UID:2660-1599764400-1599769800@www.tuneis.org.br
SUMMARY:Webinário CBT-CBMR - "Estruturas subterrâneas em rocha para mineração"
DESCRIPTION:O Comitê Brasileiro de Túneis e o Comitê Brasileiro de Mecânica das Rochas (CBMR) promovem\, em parceria\, um webinário no dia 10/9\, às 19h. O palestrante será o presidente do CBMR\, o engenheiro Lineu Azuaga Ayres da Silva\, que abordará o tema “Estruturas subterrâneas em rocha para mineração”. O encontro será transmitido ao vivo no canal do YouTube do CBT. \nAcompanhe e assista pelo canal: Comitê Brasileiro de Túneis CBT. \nAssista ao webinar pelo link: https://youtu.be/Y3Gy-6RMSzY \n
URL:https://www.tuneis.org.br/evento/webinario-cbt-cbmr-estruturas-subterraneas-em-rocha-para-mineracao/
CATEGORIES:Webinário
ATTACH;FMTTYPE=image/png:https://www.tuneis.org.br/wp-content/uploads/2020/08/webinar-lineu.png
END:VEVENT
END:VCALENDAR