BEGIN:VCALENDAR
VERSION:2.0
PRODID:-//tuneis.org.br - ECPv5.1.0//NONSGML v1.0//EN
CALSCALE:GREGORIAN
METHOD:PUBLISH
X-WR-CALNAME:tuneis.org.br
X-ORIGINAL-URL:https://www.tuneis.org.br
X-WR-CALDESC:Eventos para tuneis.org.br
BEGIN:VTIMEZONE
TZID:America/Sao_Paulo
BEGIN:STANDARD
TZOFFSETFROM:-0300
TZOFFSETTO:-0300
TZNAME:-03
DTSTART:20200101T000000
END:STANDARD
END:VTIMEZONE
BEGIN:VEVENT
DTSTART;TZID=America/Sao_Paulo:20200909T160000
DTEND;TZID=America/Sao_Paulo:20200909T170000
DTSTAMP:20260424T072642
CREATED:20200513T195802Z
LAST-MODIFIED:20200618T144110Z
UID:1655-1599667200-1599670800@www.tuneis.org.br
SUMMARY:CBTym Talks #18
DESCRIPTION:A 18ª edição do CBTym Talks está marcada. Mais informações serão divulgadas em breve! \n  \n(Imagem: Alex Nowak La Flor/CBT YM) \n  \n  \n  \n  \n
URL:https://www.tuneis.org.br/evento/cbtym-talks-18/
CATEGORIES:Webinário
ATTACH;FMTTYPE=image/jpeg:https://www.tuneis.org.br/wp-content/uploads/2020/05/FundoCBTymTalks-novosite2.jpg
END:VEVENT
END:VCALENDAR