BEGIN:VCALENDAR
VERSION:2.0
PRODID:-//tuneis.org.br - ECPv5.1.0//NONSGML v1.0//EN
CALSCALE:GREGORIAN
METHOD:PUBLISH
X-WR-CALNAME:tuneis.org.br
X-ORIGINAL-URL:https://www.tuneis.org.br
X-WR-CALDESC:Eventos para tuneis.org.br
BEGIN:VTIMEZONE
TZID:America/Sao_Paulo
BEGIN:STANDARD
TZOFFSETFROM:-0300
TZOFFSETTO:-0300
TZNAME:-03
DTSTART:20200101T000000
END:STANDARD
END:VTIMEZONE
BEGIN:VEVENT
DTSTART;TZID=America/Sao_Paulo:20200731T193000
DTEND;TZID=America/Sao_Paulo:20200802T203000
DTSTAMP:20260424T090842
CREATED:20200513T195041Z
LAST-MODIFIED:20200730T195838Z
UID:1649-1596223800-1596400200@www.tuneis.org.br
SUMMARY:CBTym Talks #15 - Experiências e reflexões da engenharia de túneis na Colômbia sobre a ótica dos engenheiros jovens 
DESCRIPTION:\n\n\n\n\n\n\nEm nossa décima quinta edição do CBTym Talks\, recebemos o Engenheiro David Camacho para falar sobre: “Experiências e reflexões da engenharia de túneis na Colômbia sobre a ótica dos engenheiros jovens”. \nAssista a live no link: https://www.youtube.com/watch?v=IcjfTAmR548 \n\n\n  \n(Imagem: i-Stockr/iStock.com) \n\n\n\n\n\n\n\n\n\n  \n  \n
URL:https://www.tuneis.org.br/evento/cbtym-talks-15/
LOCATION:Youtube
CATEGORIES:Webinário
ATTACH;FMTTYPE=image/jpeg:https://www.tuneis.org.br/wp-content/uploads/2020/07/Webinarnovo-site-3.jpg
END:VEVENT
END:VCALENDAR