BEGIN:VCALENDAR
VERSION:2.0
PRODID:-//tuneis.org.br - ECPv5.1.0//NONSGML v1.0//EN
CALSCALE:GREGORIAN
METHOD:PUBLISH
X-WR-CALNAME:tuneis.org.br
X-ORIGINAL-URL:https://www.tuneis.org.br
X-WR-CALDESC:Eventos para tuneis.org.br
BEGIN:VTIMEZONE
TZID:America/Sao_Paulo
BEGIN:STANDARD
TZOFFSETFROM:-0300
TZOFFSETTO:-0300
TZNAME:-03
DTSTART:20200101T000000
END:STANDARD
END:VTIMEZONE
BEGIN:VEVENT
DTSTART;TZID=America/Sao_Paulo:20200730T190000
DTEND;TZID=America/Sao_Paulo:20200730T203000
DTSTAMP:20260424T102945
CREATED:20200723T162048Z
LAST-MODIFIED:20200730T163231Z
UID:2430-1596135600-1596141000@www.tuneis.org.br
SUMMARY:Webinário CBT - Painel de Práticas Contratuais – Lei 8.666\, Lei do RDC\, Lei das Estatais
DESCRIPTION:O Webinário CBT do dia 30/7 será realizado em um formato diferente. O diretor-tesoureiro do Comitê\, Eloi Palma Filho\, irá moderar o “Painel de Práticas Contratuais – Lei 8.666\, Lei do RDC\, Lei das Estatais”. Os especialistas convidados para debater o assunto são o advogado Arthur Luis Pinho de Lima\, da Empresa de Planejamento e Logística (EPL); o engenheiro Flávio Henrique Cunha Lobato\, da Galvão Engenharia; o engenheiro Tiago Ern\, da AIG Seguros Brasil\, e o advogado Júlio César Bueno\, da Pinheiro Neto Advogados. \nO encontro será realizado no canal do YouTube do CBT no dia 30/07\, às 19h. Não perca! \nAcompanhe e assista pelo canal: Comitê Brasileiro de Túneis CBT. \nAssista ao webinário pelo link: https://www.youtube.com/watch?v=Vn6Y3YZdlxk&feature=youtu.be \n
URL:https://www.tuneis.org.br/evento/webinario-cbt-painel-de-praticas-contratuais-lei-8-666-lei-do-rdc-lei-das-estatais/
CATEGORIES:Webinário
ATTACH;FMTTYPE=image/jpeg:https://www.tuneis.org.br/wp-content/uploads/2020/07/cbt-home.jpg
END:VEVENT
END:VCALENDAR