BEGIN:VCALENDAR
VERSION:2.0
PRODID:-//tuneis.org.br - ECPv5.1.0//NONSGML v1.0//EN
CALSCALE:GREGORIAN
METHOD:PUBLISH
X-WR-CALNAME:tuneis.org.br
X-ORIGINAL-URL:https://www.tuneis.org.br
X-WR-CALDESC:Eventos para tuneis.org.br
BEGIN:VTIMEZONE
TZID:America/Sao_Paulo
BEGIN:STANDARD
TZOFFSETFROM:-0300
TZOFFSETTO:-0300
TZNAME:-03
DTSTART:20200101T000000
END:STANDARD
END:VTIMEZONE
BEGIN:VEVENT
DTSTART;TZID=America/Sao_Paulo:20200623T183000
DTEND;TZID=America/Sao_Paulo:20200623T193000
DTSTAMP:20260424T120524
CREATED:20200622T141532Z
LAST-MODIFIED:20200622T142851Z
UID:2259-1592937000-1592940600@www.tuneis.org.br
SUMMARY:ABMS Talks #1 - Passado\, presente e futuro da engenharia geotécnica
DESCRIPTION:A ABMS – Associação Brasileira de Mecânica dos Solos e Engenharia Geotécnica realiza amanhã\, dia 23/6\, às 18h30\, a primeira live da série ABMS Talks. O encontro ao vivo reunirá os ex-presidentes Alberto Sayão\, Francis Bogossian e Willy Lacerda\, além do atual presidente da entidade\, Alexandre Gusmão\, para uma conversa que pretende retomar os fatos marcantes da trajetória da ABMS e da história da geotecnia no Brasil. \nAssista pelos links: \nSite: https://www.abms.com.br/abms-70-talks-1/\nFacebook: https://www.facebook.com/abmsnacional/videos/948308195647755/\nYoutube: https://www.youtube.com/watch?v=dFvP9Gn-_Ss \n  \n(Imagem: lamontak590623/iStock.com) \n
URL:https://www.tuneis.org.br/evento/abms-talks-1-passado-presente-e-futuro-da-engenharia-geotecnica/
CATEGORIES:Webinário
ATTACH;FMTTYPE=image/png:https://www.tuneis.org.br/wp-content/uploads/2020/06/engenharia-lamontak590623.png
END:VEVENT
END:VCALENDAR