BEGIN:VCALENDAR
VERSION:2.0
PRODID:-//tuneis.org.br - ECPv5.1.0//NONSGML v1.0//EN
CALSCALE:GREGORIAN
METHOD:PUBLISH
X-WR-CALNAME:tuneis.org.br
X-ORIGINAL-URL:https://www.tuneis.org.br
X-WR-CALDESC:Eventos para tuneis.org.br
BEGIN:VTIMEZONE
TZID:America/Sao_Paulo
BEGIN:STANDARD
TZOFFSETFROM:-0300
TZOFFSETTO:-0300
TZNAME:-03
DTSTART:20200101T000000
END:STANDARD
END:VTIMEZONE
BEGIN:VEVENT
DTSTART;TZID=America/Sao_Paulo:20200617T160000
DTEND;TZID=America/Sao_Paulo:20200617T170000
DTSTAMP:20260424T120942
CREATED:20200513T193923Z
LAST-MODIFIED:20200615T202253Z
UID:1637-1592409600-1592413200@www.tuneis.org.br
SUMMARY:CBTym Talks #12 - Análise de túneis profundos em maciços elastoviscoplásticos
DESCRIPTION:O décimo segundo encontro online do CBT YM acontece no dia 17/6\, às 16h. Felipe Quevedo\, doutorando em Engenharia Civil na UFRGS\, foi o convidado da vez e o tema abordado será “Análise de túneis profundos em maciços Elastoviscoplasticos considerando a fluência e retração do revestimento de concreto”. O bate-papo\, moderado pelos engenheiros Fernando Abreu\, presidente do CBT YM\, e Alex Nowak La Flor\, vice-presidente\, será transmitido ao vivo pelo canal do grupo de jovens tuneleiros no Youtube. \nSaiba mais acessando aqui.  \n(Imagem: Alex Nowak La Flor/CBT YM) \n  \n  \n  \n  \n
URL:https://www.tuneis.org.br/evento/cbtym-talks-12/
CATEGORIES:Webinário
ATTACH;FMTTYPE=image/jpeg:https://www.tuneis.org.br/wp-content/uploads/2020/05/FundoCBTymTalks-novosite2.jpg
END:VEVENT
END:VCALENDAR