BEGIN:VCALENDAR
VERSION:2.0
PRODID:-//tuneis.org.br - ECPv5.1.0//NONSGML v1.0//EN
CALSCALE:GREGORIAN
METHOD:PUBLISH
X-WR-CALNAME:tuneis.org.br
X-ORIGINAL-URL:https://www.tuneis.org.br
X-WR-CALDESC:Eventos para tuneis.org.br
BEGIN:VTIMEZONE
TZID:America/Sao_Paulo
BEGIN:STANDARD
TZOFFSETFROM:-0300
TZOFFSETTO:-0300
TZNAME:-03
DTSTART:20230101T000000
END:STANDARD
END:VTIMEZONE
BEGIN:VEVENT
DTSTART;VALUE=DATE:20231201
DTEND;VALUE=DATE:20231202
DTSTAMP:20260422T205120
CREATED:20230901T121040Z
LAST-MODIFIED:20231117T122312Z
UID:6364-1701388800-1701475199@www.tuneis.org.br
SUMMARY:Tunnel Day 2023
DESCRIPTION:Promovido pelo Comitê Brasileiro de Túneis\, o Tunnel Day 2023 será realizado no dia 1º de dezembro\, sexta-feira\, na sede do Instituto de Engenharia de São Paulo. \nCom o objetivo principal de reunir a comunidade tuneleira e estruturas subterrâneas para discutir os avanços do setor\, o evento também comemorará o dia de Santa Bárbara (4 de dezembro)\, a protetora dos tuneleiros e mineradores. \nO tema desta edição do Tunnel Day será “Ferrovia do Aço: um marco na Engenharia de Túneis brasileira”. \n  \n
URL:https://www.tuneis.org.br/evento/tunnel-day-2023/
CATEGORIES:Tunnel Day
ATTACH;FMTTYPE=image/jpeg:https://www.tuneis.org.br/wp-content/uploads/2023/09/2023.10.30-Banner-Tunnel-Day-02.jpg
END:VEVENT
END:VCALENDAR