BEGIN:VCALENDAR
VERSION:2.0
PRODID:-//tuneis.org.br - ECPv5.1.0//NONSGML v1.0//EN
CALSCALE:GREGORIAN
METHOD:PUBLISH
X-WR-CALNAME:tuneis.org.br
X-ORIGINAL-URL:https://www.tuneis.org.br
X-WR-CALDESC:Eventos para tuneis.org.br
BEGIN:VTIMEZONE
TZID:America/Sao_Paulo
BEGIN:STANDARD
TZOFFSETFROM:-0300
TZOFFSETTO:-0300
TZNAME:-03
DTSTART:20230101T000000
END:STANDARD
END:VTIMEZONE
BEGIN:VEVENT
DTSTART;VALUE=DATE:20231001
DTEND;VALUE=DATE:20231005
DTSTAMP:20260423T235513
CREATED:20230707T170159Z
LAST-MODIFIED:20230707T170159Z
UID:6226-1696118400-1696463999@www.tuneis.org.br
SUMMARY:InFUM 2023
DESCRIPTION:A PUC-Rio realizará o 1º Simpósio Internacional de Concreto Projetado com Fibras para Mineração Subterrânea (InFUM 2023)\, que acontece entre os dias 1 e 4 de outubro\, com apoio do CBT. \nDurante os quatro dias de programação\, o evento abordará diversos aspectos relacionados à segurança e eficiência na operação de extração de minério em vias subterrâneas\, por meio de minicursos e palestras ministrados pelos principais especialistas da comunidade internacional. \nDois dos minicursos do evento contarão com o apoio da American Shotcrete Association\, uma das instituições parceiras do InFUM. Eles abordarão temas importantes no âmbito da mineração subterrânea\, como boas práticas\, qualidade\, normas e critérios relacionados ao concreto projetado. \nO simpósio também contará com a participação de 19 palestrantes já confirmados\, incluindo especialistas renomados como o professor Barzin Mobasher\, da Arizona State University\, e o professor Albert de la Fuente Antequera\, da UPC Barcelona TECH\, entre outros nomes de grande destaque na área. \nO InFUM 2023 é indispensável para profissionais que desejam discutir avanços e se manter atualizados sobre as últimas tendências relacionadas ao uso de concreto projetado com fibras na mineração subterrânea. \nPara mais informações sobre programação e inscrição\, acesse o site do evento:  https://infum.com.br/ \n
URL:https://www.tuneis.org.br/evento/infum-2023/
CATEGORIES:Congresso
END:VEVENT
END:VCALENDAR