BEGIN:VCALENDAR
VERSION:2.0
PRODID:-//tuneis.org.br - ECPv5.1.0//NONSGML v1.0//EN
CALSCALE:GREGORIAN
METHOD:PUBLISH
X-WR-CALNAME:tuneis.org.br
X-ORIGINAL-URL:https://www.tuneis.org.br
X-WR-CALDESC:Eventos para tuneis.org.br
BEGIN:VTIMEZONE
TZID:America/Sao_Paulo
BEGIN:STANDARD
TZOFFSETFROM:-0300
TZOFFSETTO:-0300
TZNAME:-03
DTSTART:20220101T000000
END:STANDARD
END:VTIMEZONE
BEGIN:VEVENT
DTSTART;VALUE=DATE:20221026
DTEND;VALUE=DATE:20221028
DTSTAMP:20260422T092121
CREATED:20221003T121005Z
LAST-MODIFIED:20221003T121005Z
UID:5308-1666742400-1666915199@www.tuneis.org.br
SUMMARY:XII Jornadas “TÚNELES PARA UNA MEJOR CALIDAD DE VIDA” será realizada em outubro
DESCRIPTION: \nA AATES\, Asociación Argentina de Túneles y Espacios Subterráneos\, realizará nos dias 26 e 27 de outubro a 12ª edição do seu tradicional evento “Jornadas”. \nNesta edição de 2022\, o CBT estará representado pelo seu ex-presidente Geólogo Hugo Rocha\, que apresentará obras relevantes que estão sendo executadas no nosso país. \nO evento será no modo virtual. \nMais informações e inscrições em: https://lnkd.in/ePPpegaY \n
URL:https://www.tuneis.org.br/evento/xii-jornadas-tuneles-para-una-mejor-calidad-de-vida-sera-realizada-em-outubro/
CATEGORIES:Webinário
END:VEVENT
END:VCALENDAR