BEGIN:VCALENDAR
VERSION:2.0
PRODID:-//tuneis.org.br - ECPv5.1.0//NONSGML v1.0//EN
CALSCALE:GREGORIAN
METHOD:PUBLISH
X-WR-CALNAME:tuneis.org.br
X-ORIGINAL-URL:https://www.tuneis.org.br
X-WR-CALDESC:Eventos para tuneis.org.br
BEGIN:VTIMEZONE
TZID:America/Sao_Paulo
BEGIN:STANDARD
TZOFFSETFROM:-0300
TZOFFSETTO:-0300
TZNAME:-03
DTSTART:20200101T000000
END:STANDARD
END:VTIMEZONE
BEGIN:VEVENT
DTSTART;VALUE=DATE:20200911
DTEND;VALUE=DATE:20200918
DTSTAMP:20260424T092520
CREATED:20200114T144432Z
LAST-MODIFIED:20200428T191654Z
UID:465-1599782400-1600387199@www.tuneis.org.br
SUMMARY:WTC 2020 - World Tunnel Congress
DESCRIPTION:O World Tunnel Congress 2020 já tem local e data definidos. O WTC será realizado em Kuala Lumpur\, na Malásia\, entre os dias 11 e 17 de setembro de 2020. \n
URL:https://www.tuneis.org.br/evento/wtc-2020-world-tunnel-congress/
LOCATION:Kuala Lumpur\, Wisma IEM\, First Floor\, 21\, Jalan Selangor | 46720 Petaling Jaya\, Selangor\, Malaysia\, Kuala Lumpur\, Malásia
ATTACH;FMTTYPE=image/jpeg:https://www.tuneis.org.br/wp-content/uploads/2020/01/WTC2020-novadata.jpg
END:VEVENT
END:VCALENDAR