BEGIN:VCALENDAR
VERSION:2.0
PRODID:-//tuneis.org.br - ECPv5.1.0//NONSGML v1.0//EN
CALSCALE:GREGORIAN
METHOD:PUBLISH
X-WR-CALNAME:tuneis.org.br
X-ORIGINAL-URL:https://www.tuneis.org.br
X-WR-CALDESC:Eventos para tuneis.org.br
BEGIN:VTIMEZONE
TZID:America/Sao_Paulo
BEGIN:STANDARD
TZOFFSETFROM:-0300
TZOFFSETTO:-0300
TZNAME:-03
DTSTART:20200101T000000
END:STANDARD
END:VTIMEZONE
BEGIN:VEVENT
DTSTART;TZID=America/Sao_Paulo:20200903T190000
DTEND;TZID=America/Sao_Paulo:20200903T210000
DTSTAMP:20260420T191203
CREATED:20200824T205047Z
LAST-MODIFIED:20200825T200230Z
UID:2648-1599159600-1599166800@www.tuneis.org.br
SUMMARY:Webinário CBT - “Enfilagens Metálicas Tubulares como Pré Suporte de Túneis: Conceitos técnicos e casos de obra”
DESCRIPTION:O engenheiro Alaor Coelho Junior é o palestrante do Webinário CBT do dia 3/9\, às 19h. Ele proferiu o primeiro Webinário CBT\, no dia 16 de abril\, que foi um sucesso entre a comunidade tuneleira. Alaor Coelho é gerente de engenharia e desenvolvimento da empresa Incotep Sistema de Ancoragem\, associada coletiva do CBT\, e falará sobre “Enfilagens Metálicas Tubulares como Pré Suporte de Túneis: Conceitos técnicos e casos de obra”. \n  \nAcompanhe e assista pelo canal: Comitê Brasileiro de Túneis CBT.  \nAssista ao webinário pelo link: https://www.youtube.com/watch?v=vnl3rFnyMsI \n
URL:https://www.tuneis.org.br/evento/webinario-cbt-enfilagens-metalicas-tubulares-como-pre-suporte-de-tuneis-conceitos-tecnicos-e-casos-de-obra/
CATEGORIES:Webinário
ATTACH;FMTTYPE=image/jpeg:https://www.tuneis.org.br/wp-content/uploads/2020/08/Untitled-design-25.jpg
END:VEVENT
END:VCALENDAR