BEGIN:VCALENDAR
VERSION:2.0
PRODID:-//tuneis.org.br - ECPv5.1.0//NONSGML v1.0//EN
CALSCALE:GREGORIAN
METHOD:PUBLISH
X-WR-CALNAME:tuneis.org.br
X-ORIGINAL-URL:https://www.tuneis.org.br
X-WR-CALDESC:Eventos para tuneis.org.br
BEGIN:VTIMEZONE
TZID:America/Sao_Paulo
BEGIN:STANDARD
TZOFFSETFROM:-0300
TZOFFSETTO:-0300
TZNAME:-03
DTSTART:20210101T000000
END:STANDARD
END:VTIMEZONE
BEGIN:VEVENT
DTSTART;TZID=America/Sao_Paulo:20210422T190000
DTEND;TZID=America/Sao_Paulo:20210422T203000
DTSTAMP:20260423T195936
CREATED:20210223T162508Z
LAST-MODIFIED:20210223T182854Z
UID:3772-1619118000-1619123400@www.tuneis.org.br
SUMMARY:Webinário CBT
DESCRIPTION:No dia 22/4\, às 19h\, o engenheiro Lars Babendererde\, vice-presidente da International Tunnelling and Underground Space Association (ITA) e o engenheiro Gustavo Aguiar irão se apresentar no Webinário CBT. O evento será transmitido ao vivo pelo canal do CBT no YouTube. \n(Imagem: Drazen Zigic/iStock.com) \n
URL:https://www.tuneis.org.br/evento/webinario-cbt-5/
CATEGORIES:Webinário
ATTACH;FMTTYPE=image/jpeg:https://www.tuneis.org.br/wp-content/uploads/2021/02/Design-sem-nome-47.jpg
END:VEVENT
END:VCALENDAR