BEGIN:VCALENDAR
VERSION:2.0
PRODID:-//tuneis.org.br - ECPv5.1.0//NONSGML v1.0//EN
CALSCALE:GREGORIAN
METHOD:PUBLISH
X-WR-CALNAME:tuneis.org.br
X-ORIGINAL-URL:https://www.tuneis.org.br
X-WR-CALDESC:Eventos para tuneis.org.br
BEGIN:VTIMEZONE
TZID:America/Sao_Paulo
BEGIN:STANDARD
TZOFFSETFROM:-0300
TZOFFSETTO:-0300
TZNAME:-03
DTSTART:20220101T000000
END:STANDARD
END:VTIMEZONE
BEGIN:VEVENT
DTSTART;VALUE=DATE:20221016
DTEND;VALUE=DATE:20221020
DTSTAMP:20260422T110752
CREATED:20220211T142101Z
LAST-MODIFIED:20220630T192753Z
UID:4865-1665878400-1666223999@www.tuneis.org.br
SUMMARY:IX Simpósio Latino-Americano de Mecânica das Rochas
DESCRIPTION:\n\nAssunção (Paraguai) foi escolhida como sede do IX Latin American Rock Mechanics Symposium (IX Simpósio Latino-Americano de Mecânica das Rochas) em 2022. Este prestigioso evento\, um Simpósio Internacional da ISRM\, acontecerá de 16 a 19 de outubro de 2022.\n\nO tema escolhido para o LARMS 2022 é “Desafios na mecânica das rochas: rumo a um desenvolvimento sustentável da infraestrutura”\, que visa discutir os avanços tecnológicos e a prática atual\, bem como as tendências da engenharia de rochas. Os tópicos incluem caracterização de maciços rochosos\, minas\, taludes rochosos\, geofísica aplicada\, instrumentação\, métodos numéricos\, rochas brandas\, túneis e escavações de rochas em grande profundidade\, petróleo e meio ambiente.Resumos para o Simpósio Internacional podem ser enviados até 15 de março de 2022\, através da plataforma Easychair\, pelo link http://larms2022.com/ \n\n\n
URL:https://www.tuneis.org.br/evento/ix-simposio-latino-americano-de-mecanica-das-rochas-16-a-19-outubro-2022/
CATEGORIES:Congresso
ATTACH;FMTTYPE=image/jpeg:https://www.tuneis.org.br/wp-content/uploads/2022/02/thumbnail_larms2022.jpg
END:VEVENT
END:VCALENDAR