BEGIN:VCALENDAR
VERSION:2.0
PRODID:-//tuneis.org.br - ECPv5.1.0//NONSGML v1.0//EN
CALSCALE:GREGORIAN
METHOD:PUBLISH
X-WR-CALNAME:tuneis.org.br
X-ORIGINAL-URL:https://www.tuneis.org.br
X-WR-CALDESC:Eventos para tuneis.org.br
BEGIN:VTIMEZONE
TZID:America/Sao_Paulo
BEGIN:STANDARD
TZOFFSETFROM:-0300
TZOFFSETTO:-0300
TZNAME:-03
DTSTART:20200101T000000
END:STANDARD
END:VTIMEZONE
BEGIN:VEVENT
DTSTART;TZID=America/Sao_Paulo:20201203T190000
DTEND;TZID=America/Sao_Paulo:20201203T203000
DTSTAMP:20260424T021335
CREATED:20201113T182800Z
LAST-MODIFIED:20201113T182800Z
UID:3094-1607022000-1607027400@www.tuneis.org.br
SUMMARY:Ex-diretor do CBT\, Edson Peev será o convidado do Webinário CBT no dia 03/12\, às 19h
DESCRIPTION:O engenheiro falará sobre TBM: máquinas versáteis aplicáveis em todo tipo de túnel. \n \nO Webinário CBT do dia 03/12 recebe o ex-diretor do Comitê\, Edson Peev\, representando a Herrenknecht do Brasil – empresa parceira do Comitê. Peev atua na área comercial e no suporte pós-venda da Herrenknecht AG. No encontro\, o engenheiro falará sobre “TBM: máquinas versáteis aplicáveis em todo tipo de túnel”. A live acontece dia 03/12\, às 19h\, e será transmitida ao vivo pelo canal do CBT no Youtube. Não perca! \nAssista ao Webinário CBT: https://www.youtube.com/watch?v=hSfHuUGbnXM\nAcompanhe e assista pelo canal: Comitê Brasileiro de Túneis CBT \nImagem: Manu_Bahuguna/iStock.com \n
URL:https://www.tuneis.org.br/evento/ex-diretor-do-cbt-edson-peev-sera-o-convidado-do-webinario-cbt-no-dia-03-12-as-19h/
LOCATION:Youtube
CATEGORIES:Webinário
ATTACH;FMTTYPE=image/png:https://www.tuneis.org.br/wp-content/uploads/2020/11/webinar-CBTnovo-site-6.png
END:VEVENT
END:VCALENDAR