BEGIN:VCALENDAR
VERSION:2.0
PRODID:-//tuneis.org.br - ECPv5.1.0//NONSGML v1.0//EN
CALSCALE:GREGORIAN
METHOD:PUBLISH
X-WR-CALNAME:tuneis.org.br
X-ORIGINAL-URL:https://www.tuneis.org.br
X-WR-CALDESC:Eventos para tuneis.org.br
BEGIN:VTIMEZONE
TZID:America/Sao_Paulo
BEGIN:STANDARD
TZOFFSETFROM:-0300
TZOFFSETTO:-0300
TZNAME:-03
DTSTART:20200101T000000
END:STANDARD
END:VTIMEZONE
BEGIN:VEVENT
DTSTART;TZID=America/Sao_Paulo:20200828T173000
DTEND;TZID=America/Sao_Paulo:20200828T183000
DTSTAMP:20260420T132208
CREATED:20200821T194438Z
LAST-MODIFIED:20200821T194915Z
UID:2633-1598635800-1598639400@www.tuneis.org.br
SUMMARY:Conversa dos Tuneleiros
DESCRIPTION:No dia 28/8\, o Comitê Brasileiro de Túneis realizará a sua 4º edição da Conversa dos Tuneleiros\, às 17h30. O encontro online tem como princípio oferecer um espaço de networking entre os profissionais\, estudantes e entusiastas da área de túneis\, além de proporcionar um momento de bate-papo sobre temas pertinentes à área. A inscrição é gratuita. Participe! \nInscreva-se em: https://appticket.com.br/conversa-tuneleiros \nPara participar da Conversa dos Tuneleiros\, acesse o link abaixo no dia 28/8: https://poliuspbr.zoom.us/j/97163511812 \n
URL:https://www.tuneis.org.br/evento/conversa-dos-tuneleiros-3/
CATEGORIES:Webinário
END:VEVENT
END:VCALENDAR