BEGIN:VCALENDAR
VERSION:2.0
PRODID:-//tuneis.org.br - ECPv5.1.0//NONSGML v1.0//EN
CALSCALE:GREGORIAN
METHOD:PUBLISH
X-WR-CALNAME:tuneis.org.br
X-ORIGINAL-URL:https://www.tuneis.org.br
X-WR-CALDESC:Eventos para tuneis.org.br
BEGIN:VTIMEZONE
TZID:America/Sao_Paulo
BEGIN:STANDARD
TZOFFSETFROM:-0300
TZOFFSETTO:-0300
TZNAME:-03
DTSTART:20200101T000000
END:STANDARD
END:VTIMEZONE
BEGIN:VEVENT
DTSTART;TZID=America/Sao_Paulo:20201204T143000
DTEND;TZID=America/Sao_Paulo:20201204T153000
DTSTAMP:20260424T034836
CREATED:20200507T154205Z
LAST-MODIFIED:20201201T134017Z
UID:1459-1607092200-1607095800@www.tuneis.org.br
SUMMARY:Cerimônia de entrega do Prêmio Figueiredo Ferraz
DESCRIPTION:Em sua 4ª edição\, o Prêmio Figueiredo Ferraz tem como objetivo estimular a pesquisa sobre o espaço subterrâneo entre os jovens engenheiros\, que podem concorrer com trabalhos do ano da edição ou do ano anterior. A cerimônia de entrega irá acontecer durante o Tunnel Day\, no dia 4 de dezembro de 2020. \nLeia mais em http://www.tuneis.com.br/2019/11/27/premio-figueiredo-ferraz/ \n  \n  \n  \n
URL:https://www.tuneis.org.br/evento/cerimonia-de-entrega-do-premio-figueiredo-ferraz/
CATEGORIES:Tunnel Day
ATTACH;FMTTYPE=image/jpeg:https://www.tuneis.org.br/wp-content/uploads/2020/05/PremioFigueiredoFerraz-medalha-calendario.jpg
END:VEVENT
END:VCALENDAR