BEGIN:VCALENDAR
VERSION:2.0
PRODID:-//tuneis.org.br - ECPv5.1.0//NONSGML v1.0//EN
CALSCALE:GREGORIAN
METHOD:PUBLISH
X-WR-CALNAME:tuneis.org.br
X-ORIGINAL-URL:https://www.tuneis.org.br
X-WR-CALDESC:Eventos para tuneis.org.br
BEGIN:VTIMEZONE
TZID:America/Sao_Paulo
BEGIN:STANDARD
TZOFFSETFROM:-0300
TZOFFSETTO:-0300
TZNAME:-03
DTSTART:20220101T000000
END:STANDARD
END:VTIMEZONE
BEGIN:VEVENT
DTSTART;TZID=America/Sao_Paulo:20220217T190000
DTEND;TZID=America/Sao_Paulo:20220217T200000
DTSTAMP:20260423T020545
CREATED:20220207T144045Z
LAST-MODIFIED:20220207T144045Z
UID:4861-1645124400-1645128000@www.tuneis.org.br
SUMMARY:CBT realizará webinário dia 17/fevereiro
DESCRIPTION: \nNo dia 17/fev/22\, o CBT realizará o webinário “Geotecnologias aplicadas a obras de infraestrutura subterrânea”\, em parceria com a empresa Seequent\, Associada Corporativa CBT/ABMS\, e apoio da ABGE. \nA transmissão iniciará às 19h\, e será transmitida pelo Canal do Comitê Brasileiro de Túneis no YouTube\, https://youtu.be/yE3uYd6ricA. \n
URL:https://www.tuneis.org.br/evento/cbt-realizara-webinario-dia-17-fevereiro/
CATEGORIES:Webinário
END:VEVENT
END:VCALENDAR