BEGIN:VCALENDAR
VERSION:2.0
PRODID:-//tuneis.org.br - ECPv5.1.0//NONSGML v1.0//EN
CALSCALE:GREGORIAN
METHOD:PUBLISH
X-WR-CALNAME:tuneis.org.br
X-ORIGINAL-URL:https://www.tuneis.org.br
X-WR-CALDESC:Eventos para tuneis.org.br
BEGIN:VTIMEZONE
TZID:America/Sao_Paulo
BEGIN:STANDARD
TZOFFSETFROM:-0300
TZOFFSETTO:-0300
TZNAME:-03
DTSTART:20200101T000000
END:STANDARD
END:VTIMEZONE
BEGIN:VEVENT
DTSTART;TZID=America/Sao_Paulo:20200827T190000
DTEND;TZID=America/Sao_Paulo:20200827T210000
DTSTAMP:20260420T152223
CREATED:20200821T152951Z
LAST-MODIFIED:20200821T194523Z
UID:2625-1598554800-1598562000@www.tuneis.org.br
SUMMARY:Webinário CBT - “Concreto Projetado para túneis: aspectos práticos de um processo para o século 21”
DESCRIPTION:O próximo Webinário CBT acontece no dia 27/8\, às 19h. O palestrante da vez é o engenheiro Cassio Abeid Moura\, diretor do CBT e da empresa Concreto Projetado do Brasil (CPB). Ele representará a empresa\, que é parceira do CBT\, e fará uma apresentação sobre “Concreto Projetado para túneis: aspectos práticos de um processo para o século 21”. Cassio Moura é engenheiro civil formado pela Universidade Mackenzie. Há 20 anos trabalha no desenvolvimento de equipamentos e aplicação do concreto projetado e ancoragens em diversos usos\, com foco em contenções de encostas e túneis. \nAcompanhe e assista pelo canal: Comitê Brasileiro de Túneis CBT.  \nAssista ao webinário pelo link: https://www.youtube.com/watch?v=4inLz68kHyY \n(Imagem: GaudiLab/iStock.com) \n
URL:https://www.tuneis.org.br/evento/cassio-abeid-moura-e-o-convidado-do-proximo-webinario-cbt-dia-27-8-as-19h/
CATEGORIES:Webinário
ATTACH;FMTTYPE=image/jpeg:https://www.tuneis.org.br/wp-content/uploads/2020/08/cbt-interna-1.jpg
END:VEVENT
END:VCALENDAR